BEGIN:VCALENDAR
VERSION:2.0
PRODID:-//Vestingdagen 2.0 - ECPv6.15.13//NONSGML v1.0//EN
CALSCALE:GREGORIAN
METHOD:PUBLISH
X-WR-CALNAME:Vestingdagen 2.0
X-ORIGINAL-URL:https://vestingdagen.nl
X-WR-CALDESC:Evenementen voor Vestingdagen 2.0
REFRESH-INTERVAL;VALUE=DURATION:PT1H
X-Robots-Tag:noindex
X-PUBLISHED-TTL:PT1H
BEGIN:VTIMEZONE
TZID:Europe/Amsterdam
BEGIN:DAYLIGHT
TZOFFSETFROM:+0100
TZOFFSETTO:+0200
TZNAME:CEST
DTSTART:20220327T010000
END:DAYLIGHT
BEGIN:STANDARD
TZOFFSETFROM:+0200
TZOFFSETTO:+0100
TZNAME:CET
DTSTART:20221030T010000
END:STANDARD
BEGIN:DAYLIGHT
TZOFFSETFROM:+0100
TZOFFSETTO:+0200
TZNAME:CEST
DTSTART:20230326T010000
END:DAYLIGHT
BEGIN:STANDARD
TZOFFSETFROM:+0200
TZOFFSETTO:+0100
TZNAME:CET
DTSTART:20231029T010000
END:STANDARD
BEGIN:DAYLIGHT
TZOFFSETFROM:+0100
TZOFFSETTO:+0200
TZNAME:CEST
DTSTART:20240331T010000
END:DAYLIGHT
BEGIN:STANDARD
TZOFFSETFROM:+0200
TZOFFSETTO:+0100
TZNAME:CET
DTSTART:20241027T010000
END:STANDARD
BEGIN:DAYLIGHT
TZOFFSETFROM:+0100
TZOFFSETTO:+0200
TZNAME:CEST
DTSTART:20250330T010000
END:DAYLIGHT
BEGIN:STANDARD
TZOFFSETFROM:+0200
TZOFFSETTO:+0100
TZNAME:CET
DTSTART:20251026T010000
END:STANDARD
BEGIN:DAYLIGHT
TZOFFSETFROM:+0100
TZOFFSETTO:+0200
TZNAME:CEST
DTSTART:20260329T010000
END:DAYLIGHT
BEGIN:STANDARD
TZOFFSETFROM:+0200
TZOFFSETTO:+0100
TZNAME:CET
DTSTART:20261025T010000
END:STANDARD
END:VTIMEZONE
BEGIN:VEVENT
DTSTART;TZID=Europe/Amsterdam:20250817T130000
DTEND;TZID=Europe/Amsterdam:20250817T130000
DTSTAMP:20260422T032928
CREATED:20250620T075027Z
LAST-MODIFIED:20250728T091738Z
UID:25193-1755435600-1755435600@vestingdagen.nl
SUMMARY:Muziek: Diverse bands bij Mach
DESCRIPTION:
URL:https://vestingdagen.nl/events/muziek-diverse-bands-bij-mach-3/
CATEGORIES:Plein Fort Haerlem
ATTACH;FMTTYPE=image/jpeg:https://vestingdagen.nl/wp-content/uploads/2025/06/Plaatje-locatie-Fort-Haerlem-bij-Mach.jpg
END:VEVENT
BEGIN:VEVENT
DTSTART;TZID=Europe/Amsterdam:20250817T110000
DTEND;TZID=Europe/Amsterdam:20250817T110000
DTSTAMP:20260422T032928
CREATED:20250620T075358Z
LAST-MODIFIED:20250620T080905Z
UID:25222-1755428400-1755428400@vestingdagen.nl
SUMMARY:Vinyl & Platenbeurs
DESCRIPTION:
URL:https://vestingdagen.nl/events/vinyl-platenbeurs/
LOCATION:Plein Fort Haerlem:\, Plein Fort Haerlem\, Hellevoetsluis
CATEGORIES:Plein Fort Haerlem
ATTACH;FMTTYPE=image/jpeg:https://vestingdagen.nl/wp-content/uploads/2025/06/Platenbeurs-Plein-Fort-Haerlem.jpg
END:VEVENT
BEGIN:VEVENT
DTSTART;TZID=Europe/Amsterdam:20250816T100000
DTEND;TZID=Europe/Amsterdam:20250816T170000
DTSTAMP:20260422T032928
CREATED:20250620T075413Z
LAST-MODIFIED:20250620T080909Z
UID:25223-1755338400-1755363600@vestingdagen.nl
SUMMARY:Creamarkt door Kroko's Evenementen
DESCRIPTION:
URL:https://vestingdagen.nl/events/creamarkt-door-krokos-evenementen/
LOCATION:Plein Fort Haerlem:\, Plein Fort Haerlem\, Hellevoetsluis
CATEGORIES:Plein Fort Haerlem
ATTACH;FMTTYPE=image/jpeg:https://vestingdagen.nl/wp-content/uploads/2025/06/Creamarkt-Plein-Fort-Haerlem.jpg
END:VEVENT
BEGIN:VEVENT
DTSTART;TZID=Europe/Amsterdam:20240818T130000
DTEND;TZID=Europe/Amsterdam:20240818T190000
DTSTAMP:20260422T032928
CREATED:20240707T074417Z
LAST-MODIFIED:20250728T091811Z
UID:24673-1723986000-1724007600@vestingdagen.nl
SUMMARY:Muziek: Diverse bands bij Mach
DESCRIPTION:
URL:https://vestingdagen.nl/events/muziek-diverse-bands-bij-mach-2/
LOCATION:Plein Fort Haerlem:\, Plein Fort Haerlem\, Hellevoetsluis
CATEGORIES:Plein Fort Haerlem
ATTACH;FMTTYPE=image/jpeg:https://vestingdagen.nl/wp-content/uploads/2025/07/Plaatje-locatie-Fort-Haerlem-bij-Mach.jpg
END:VEVENT
BEGIN:VEVENT
DTSTART;TZID=Europe/Amsterdam:20240818T110000
DTEND;TZID=Europe/Amsterdam:20240818T170000
DTSTAMP:20260422T032928
CREATED:20240707T100804Z
LAST-MODIFIED:20240707T100804Z
UID:24707-1723978800-1724000400@vestingdagen.nl
SUMMARY:Platenbeurs
DESCRIPTION:
URL:https://vestingdagen.nl/events/platenbeurs/
LOCATION:Plein Fort Haerlem:\, Plein Fort Haerlem\, Hellevoetsluis
CATEGORIES:Plein Fort Haerlem
ATTACH;FMTTYPE=image/jpeg:https://vestingdagen.nl/wp-content/uploads/2021/12/PLATENBEURS2.jpg
END:VEVENT
BEGIN:VEVENT
DTSTART;TZID=Europe/Amsterdam:20230820T110000
DTEND;TZID=Europe/Amsterdam:20230820T170000
DTSTAMP:20260422T032928
CREATED:20230706T014225Z
LAST-MODIFIED:20230706T023441Z
UID:24203-1692529200-1692550800@vestingdagen.nl
SUMMARY:Platenbeurs
DESCRIPTION:
URL:https://vestingdagen.nl/events/platenbeurs-2/
LOCATION:Plein Fort Haerlem:\, Plein Fort Haerlem\, Hellevoetsluis
CATEGORIES:Plein Fort Haerlem,Vesting
ATTACH;FMTTYPE=image/jpeg:https://vestingdagen.nl/wp-content/uploads/2021/12/PLATENBEURS2.jpg
END:VEVENT
BEGIN:VEVENT
DTSTART;VALUE=DATE:20230820
DTEND;VALUE=DATE:20230821
DTSTAMP:20260422T032928
CREATED:20220707T114614Z
LAST-MODIFIED:20230810T221636Z
UID:23831-1692489600-1692575999@vestingdagen.nl
SUMMARY:Muziekcafé Mach
DESCRIPTION:Zondag 20 augustus \nBuitenpodium: \n13.00 uur The Benzos \n14.00 uur Kindabroke \n15.00 uur Mistress \n16.00 uur Het Alternatief \n17.00 uur Fort Knox
URL:https://vestingdagen.nl/events/muziekcafe-mach/
LOCATION:Kazerne Haerlem:\, Plein Fort Haerlem 1\, Hellevoetsluis
CATEGORIES:Plein Fort Haerlem,Vesting
ATTACH;FMTTYPE=image/png:https://vestingdagen.nl/wp-content/uploads/2022/07/MACH.png
END:VEVENT
BEGIN:VEVENT
DTSTART;TZID=Europe/Amsterdam:20230819T100000
DTEND;TZID=Europe/Amsterdam:20230819T170000
DTSTAMP:20260422T032928
CREATED:20230706T013928Z
LAST-MODIFIED:20230706T022942Z
UID:24163-1692439200-1692464400@vestingdagen.nl
SUMMARY:Ringrijden
DESCRIPTION:
URL:https://vestingdagen.nl/events/ringrijden-2/
LOCATION:Plein Fort Haerlem:\, Plein Fort Haerlem\, Hellevoetsluis
CATEGORIES:Plein Fort Haerlem,Vesting
ATTACH;FMTTYPE=image/jpeg:https://vestingdagen.nl/wp-content/uploads/2021/12/RINGSTEKEN.jpg
END:VEVENT
END:VCALENDAR