BEGIN:VCALENDAR
VERSION:2.0
PRODID:-//Vestingdagen 2.0 - ECPv6.15.13//NONSGML v1.0//EN
CALSCALE:GREGORIAN
METHOD:PUBLISH
X-WR-CALNAME:Vestingdagen 2.0
X-ORIGINAL-URL:https://vestingdagen.nl
X-WR-CALDESC:Evenementen voor Vestingdagen 2.0
REFRESH-INTERVAL;VALUE=DURATION:PT1H
X-Robots-Tag:noindex
X-PUBLISHED-TTL:PT1H
BEGIN:VTIMEZONE
TZID:Europe/Amsterdam
BEGIN:DAYLIGHT
TZOFFSETFROM:+0100
TZOFFSETTO:+0200
TZNAME:CEST
DTSTART:20220327T010000
END:DAYLIGHT
BEGIN:STANDARD
TZOFFSETFROM:+0200
TZOFFSETTO:+0100
TZNAME:CET
DTSTART:20221030T010000
END:STANDARD
BEGIN:DAYLIGHT
TZOFFSETFROM:+0100
TZOFFSETTO:+0200
TZNAME:CEST
DTSTART:20230326T010000
END:DAYLIGHT
BEGIN:STANDARD
TZOFFSETFROM:+0200
TZOFFSETTO:+0100
TZNAME:CET
DTSTART:20231029T010000
END:STANDARD
BEGIN:DAYLIGHT
TZOFFSETFROM:+0100
TZOFFSETTO:+0200
TZNAME:CEST
DTSTART:20240331T010000
END:DAYLIGHT
BEGIN:STANDARD
TZOFFSETFROM:+0200
TZOFFSETTO:+0100
TZNAME:CET
DTSTART:20241027T010000
END:STANDARD
BEGIN:DAYLIGHT
TZOFFSETFROM:+0100
TZOFFSETTO:+0200
TZNAME:CEST
DTSTART:20250330T010000
END:DAYLIGHT
BEGIN:STANDARD
TZOFFSETFROM:+0200
TZOFFSETTO:+0100
TZNAME:CET
DTSTART:20251026T010000
END:STANDARD
END:VTIMEZONE
BEGIN:VEVENT
DTSTART;TZID=Europe/Amsterdam:20240818T110000
DTEND;TZID=Europe/Amsterdam:20240818T170000
DTSTAMP:20260421T124521
CREATED:20240707T095956Z
LAST-MODIFIED:20240707T095956Z
UID:24783-1723978800-1724000400@vestingdagen.nl
SUMMARY:Korpsschip de Zeefakkel is te bezoeken
DESCRIPTION:
URL:https://vestingdagen.nl/events/korpsschip-de-zeefakkel-is-te-bezoeken-2/
LOCATION:Land van Paling:\, Land van Paling\, Hellevoetsluis
CATEGORIES:Land van Paling
ATTACH;FMTTYPE=image/jpeg:https://vestingdagen.nl/wp-content/uploads/2024/07/Zeefakkel.jpg
END:VEVENT
BEGIN:VEVENT
DTSTART;TZID=Europe/Amsterdam:20240818T110000
DTEND;TZID=Europe/Amsterdam:20240818T170000
DTSTAMP:20260421T124521
CREATED:20240707T094855Z
LAST-MODIFIED:20240707T094855Z
UID:24754-1723978800-1724000400@vestingdagen.nl
SUMMARY:Demonstratie schapendrijven
DESCRIPTION:
URL:https://vestingdagen.nl/events/demonstratie-schapendrijven-2/
LOCATION:Land van Paling:\, Land van Paling\, Hellevoetsluis
CATEGORIES:Land van Paling
ATTACH;FMTTYPE=image/jpeg:https://vestingdagen.nl/wp-content/uploads/2024/07/Schapendrijven-1.jpg
END:VEVENT
BEGIN:VEVENT
DTSTART;TZID=Europe/Amsterdam:20240817T100000
DTEND;TZID=Europe/Amsterdam:20240817T170000
DTSTAMP:20260421T124521
CREATED:20240707T101618Z
LAST-MODIFIED:20240707T101618Z
UID:24766-1723888800-1723914000@vestingdagen.nl
SUMMARY:Trekkerclub/Modelbouwplein/Crawlerbaan
DESCRIPTION:
URL:https://vestingdagen.nl/events/trekkerclub-modelbouwplein-crawlerbaan/
LOCATION:Land van Paling:\, Land van Paling\, Hellevoetsluis
CATEGORIES:Land van Paling
ATTACH;FMTTYPE=image/jpeg:https://vestingdagen.nl/wp-content/uploads/2024/07/Trekkerclubmodelb.jpg
END:VEVENT
BEGIN:VEVENT
DTSTART;TZID=Europe/Amsterdam:20240817T100000
DTEND;TZID=Europe/Amsterdam:20240817T170000
DTSTAMP:20260421T124521
CREATED:20240707T101516Z
LAST-MODIFIED:20240707T101516Z
UID:24745-1723888800-1723914000@vestingdagen.nl
SUMMARY:Stichting Push 'Pop-up Buurtfeest'
DESCRIPTION:
URL:https://vestingdagen.nl/events/stichting-push-pop-up-buurtfeest/
LOCATION:Land van Paling:\, Land van Paling\, Hellevoetsluis
CATEGORIES:Land van Paling
ATTACH;FMTTYPE=image/jpeg:https://vestingdagen.nl/wp-content/uploads/2024/07/push.jpg
END:VEVENT
BEGIN:VEVENT
DTSTART;TZID=Europe/Amsterdam:20240817T100000
DTEND;TZID=Europe/Amsterdam:20240817T170000
DTSTAMP:20260421T124521
CREATED:20240707T095935Z
LAST-MODIFIED:20240707T095935Z
UID:24782-1723888800-1723914000@vestingdagen.nl
SUMMARY:Korpsschip de Zeefakkel is te bezoeken
DESCRIPTION:
URL:https://vestingdagen.nl/events/korpsschip-de-zeefakkel-is-te-bezoeken/
LOCATION:Land van Paling:\, Land van Paling\, Hellevoetsluis
CATEGORIES:Land van Paling
ATTACH;FMTTYPE=image/jpeg:https://vestingdagen.nl/wp-content/uploads/2024/07/Zeefakkel.jpg
END:VEVENT
BEGIN:VEVENT
DTSTART;TZID=Europe/Amsterdam:20240817T100000
DTEND;TZID=Europe/Amsterdam:20240817T170000
DTSTAMP:20260421T124521
CREATED:20240707T094824Z
LAST-MODIFIED:20240707T094824Z
UID:24753-1723888800-1723914000@vestingdagen.nl
SUMMARY:Demonstratie schapendrijven
DESCRIPTION:
URL:https://vestingdagen.nl/events/demonstratie-schapendrijven/
LOCATION:Land van Paling:\, Land van Paling\, Hellevoetsluis
CATEGORIES:Land van Paling
ATTACH;FMTTYPE=image/jpeg:https://vestingdagen.nl/wp-content/uploads/2024/07/Schapendrijven-1.jpg
END:VEVENT
BEGIN:VEVENT
DTSTART;TZID=Europe/Amsterdam:20230820T110000
DTEND;TZID=Europe/Amsterdam:20230820T170000
DTSTAMP:20260421T124521
CREATED:20230706T014042Z
LAST-MODIFIED:20230706T023247Z
UID:24183-1692529200-1692550800@vestingdagen.nl
SUMMARY:Scouting
DESCRIPTION:
URL:https://vestingdagen.nl/events/scouting-2/
LOCATION:Land van Paling:\, Land van Paling\, Hellevoetsluis
CATEGORIES:Land van Paling,Vesting
ATTACH;FMTTYPE=image/jpeg:https://vestingdagen.nl/wp-content/uploads/2021/12/Scouting.jpg
END:VEVENT
BEGIN:VEVENT
DTSTART;TZID=Europe/Amsterdam:20230820T110000
DTEND;TZID=Europe/Amsterdam:20230820T170000
DTSTAMP:20260421T124521
CREATED:20230706T014014Z
LAST-MODIFIED:20230706T023246Z
UID:24182-1692529200-1692550800@vestingdagen.nl
SUMMARY:Stichting Push
DESCRIPTION:
URL:https://vestingdagen.nl/events/stichting-push-2/
LOCATION:Land van Paling:\, Land van Paling\, Hellevoetsluis
CATEGORIES:Land van Paling,Vesting
ATTACH;FMTTYPE=image/jpeg:https://vestingdagen.nl/wp-content/uploads/2021/12/Push.jpg
END:VEVENT
BEGIN:VEVENT
DTSTART;TZID=Europe/Amsterdam:20230820T110000
DTEND;TZID=Europe/Amsterdam:20230820T170000
DTSTAMP:20260421T124521
CREATED:20230706T014013Z
LAST-MODIFIED:20230706T023245Z
UID:24181-1692529200-1692550800@vestingdagen.nl
SUMMARY:Trekkerclub/Modelbouwplein/Oude Ambachten
DESCRIPTION:
URL:https://vestingdagen.nl/events/trekkerclub-modelbouwplein-oude-ambachten-2/
LOCATION:Land van Paling:\, Land van Paling\, Hellevoetsluis
CATEGORIES:Land van Paling,Vesting
ATTACH;FMTTYPE=image/jpeg:https://vestingdagen.nl/wp-content/uploads/2021/12/Modelbouwplein-1.jpg
END:VEVENT
BEGIN:VEVENT
DTSTART;TZID=Europe/Amsterdam:20230819T100000
DTEND;TZID=Europe/Amsterdam:20230819T170000
DTSTAMP:20260421T124521
CREATED:20230706T013843Z
LAST-MODIFIED:20230706T022848Z
UID:24148-1692439200-1692464400@vestingdagen.nl
SUMMARY:Trekkerclub/Modelbouwplein/Oude Ambachten
DESCRIPTION:
URL:https://vestingdagen.nl/events/trekkerclub-modelbouwplein-oude-ambachten/
LOCATION:Land van Paling:\, Land van Paling\, Hellevoetsluis
CATEGORIES:Land van Paling,Vesting
ATTACH;FMTTYPE=image/jpeg:https://vestingdagen.nl/wp-content/uploads/2021/12/Trekkerplein.jpg
END:VEVENT
BEGIN:VEVENT
DTSTART;TZID=Europe/Amsterdam:20230819T100000
DTEND;TZID=Europe/Amsterdam:20230819T170000
DTSTAMP:20260421T124521
CREATED:20230706T013843Z
LAST-MODIFIED:20230706T022849Z
UID:24149-1692439200-1692464400@vestingdagen.nl
SUMMARY:Stichting Push
DESCRIPTION:
URL:https://vestingdagen.nl/events/stichting-push/
LOCATION:Land van Paling:\, Land van Paling\, Hellevoetsluis
CATEGORIES:Land van Paling,Vesting
ATTACH;FMTTYPE=image/jpeg:https://vestingdagen.nl/wp-content/uploads/2021/12/Push.jpg
END:VEVENT
BEGIN:VEVENT
DTSTART;TZID=Europe/Amsterdam:20230819T100000
DTEND;TZID=Europe/Amsterdam:20230819T170000
DTSTAMP:20260421T124521
CREATED:20230706T013843Z
LAST-MODIFIED:20230706T022850Z
UID:24150-1692439200-1692464400@vestingdagen.nl
SUMMARY:Scouting
DESCRIPTION:
URL:https://vestingdagen.nl/events/scouting/
LOCATION:Land van Paling:\, Land van Paling\, Hellevoetsluis
CATEGORIES:Land van Paling,Vesting
ATTACH;FMTTYPE=image/jpeg:https://vestingdagen.nl/wp-content/uploads/2021/12/Scouting.jpg
END:VEVENT
END:VCALENDAR