BEGIN:VCALENDAR
VERSION:2.0
PRODID:-//Vestingdagen 2.0 - ECPv6.15.13//NONSGML v1.0//EN
CALSCALE:GREGORIAN
METHOD:PUBLISH
X-ORIGINAL-URL:https://vestingdagen.nl
X-WR-CALDESC:Evenementen voor Vestingdagen 2.0
REFRESH-INTERVAL;VALUE=DURATION:PT1H
X-Robots-Tag:noindex
X-PUBLISHED-TTL:PT1H
BEGIN:VTIMEZONE
TZID:Europe/Amsterdam
BEGIN:DAYLIGHT
TZOFFSETFROM:+0100
TZOFFSETTO:+0200
TZNAME:CEST
DTSTART:20240331T010000
END:DAYLIGHT
BEGIN:STANDARD
TZOFFSETFROM:+0200
TZOFFSETTO:+0100
TZNAME:CET
DTSTART:20241027T010000
END:STANDARD
BEGIN:DAYLIGHT
TZOFFSETFROM:+0100
TZOFFSETTO:+0200
TZNAME:CEST
DTSTART:20250330T010000
END:DAYLIGHT
BEGIN:STANDARD
TZOFFSETFROM:+0200
TZOFFSETTO:+0100
TZNAME:CET
DTSTART:20251026T010000
END:STANDARD
BEGIN:DAYLIGHT
TZOFFSETFROM:+0100
TZOFFSETTO:+0200
TZNAME:CEST
DTSTART:20260329T010000
END:DAYLIGHT
BEGIN:STANDARD
TZOFFSETFROM:+0200
TZOFFSETTO:+0100
TZNAME:CET
DTSTART:20261025T010000
END:STANDARD
END:VTIMEZONE
BEGIN:VEVENT
DTSTART;TZID=Europe/Amsterdam:20250817T110000
DTEND;TZID=Europe/Amsterdam:20250817T170000
DTSTAMP:20260422T035403
CREATED:20250728T101056Z
LAST-MODIFIED:20250728T101420Z
UID:25537-1755428400-1755450000@vestingdagen.nl
SUMMARY:La Rana met duikcontainer
DESCRIPTION:
URL:https://vestingdagen.nl/events/la-rana-met-duikcontainer-2/
CATEGORIES:Dokweg
ATTACH;FMTTYPE=image/jpeg:https://vestingdagen.nl/wp-content/uploads/2025/07/La-Rana-Dokweg.jpg
END:VEVENT
BEGIN:VEVENT
DTSTART;TZID=Europe/Amsterdam:20250817T110000
DTEND;TZID=Europe/Amsterdam:20250817T170000
DTSTAMP:20260422T035403
CREATED:20250620T075413Z
LAST-MODIFIED:20250620T080913Z
UID:25227-1755428400-1755450000@vestingdagen.nl
SUMMARY:Droogdok met eigen programma
DESCRIPTION:
URL:https://vestingdagen.nl/events/droogdok-met-eigen-programma-2/
LOCATION:Dokweg:\, Dokweg\, Hellevoetsluis
CATEGORIES:Dokweg
ATTACH;FMTTYPE=image/jpeg:https://vestingdagen.nl/wp-content/uploads/2025/06/Droogdok-Dokweg.jpg
END:VEVENT
BEGIN:VEVENT
DTSTART;TZID=Europe/Amsterdam:20250816T100000
DTEND;TZID=Europe/Amsterdam:20250816T170000
DTSTAMP:20260422T035403
CREATED:20250728T101053Z
LAST-MODIFIED:20250728T101453Z
UID:25536-1755338400-1755363600@vestingdagen.nl
SUMMARY:La Rana met duikcontainer
DESCRIPTION:
URL:https://vestingdagen.nl/events/la-rana-met-duikcontainer/
CATEGORIES:Dokweg
ATTACH;FMTTYPE=image/jpeg:https://vestingdagen.nl/wp-content/uploads/2025/07/La-Rana-Dokweg.jpg
END:VEVENT
BEGIN:VEVENT
DTSTART;TZID=Europe/Amsterdam:20250816T100000
DTEND;TZID=Europe/Amsterdam:20250816T170000
DTSTAMP:20260422T035403
CREATED:20250620T075413Z
LAST-MODIFIED:20250620T080912Z
UID:25226-1755338400-1755363600@vestingdagen.nl
SUMMARY:Droogdok met eigen programma
DESCRIPTION:
URL:https://vestingdagen.nl/events/droogdok-met-eigen-programma/
LOCATION:Dokweg:\, Dokweg\, Hellevoetsluis
CATEGORIES:Dokweg
ATTACH;FMTTYPE=image/jpeg:https://vestingdagen.nl/wp-content/uploads/2025/06/Droogdok-Dokweg.jpg
END:VEVENT
END:VCALENDAR