BEGIN:VCALENDAR
VERSION:2.0
PRODID:-//Vestingdagen 2.0 - ECPv6.15.13//NONSGML v1.0//EN
CALSCALE:GREGORIAN
METHOD:PUBLISH
X-WR-CALNAME:Vestingdagen 2.0
X-ORIGINAL-URL:https://vestingdagen.nl
X-WR-CALDESC:Evenementen voor Vestingdagen 2.0
REFRESH-INTERVAL;VALUE=DURATION:PT1H
X-Robots-Tag:noindex
X-PUBLISHED-TTL:PT1H
BEGIN:VTIMEZONE
TZID:Europe/Amsterdam
BEGIN:DAYLIGHT
TZOFFSETFROM:+0100
TZOFFSETTO:+0200
TZNAME:CEST
DTSTART:20230326T010000
END:DAYLIGHT
BEGIN:STANDARD
TZOFFSETFROM:+0200
TZOFFSETTO:+0100
TZNAME:CET
DTSTART:20231029T010000
END:STANDARD
BEGIN:DAYLIGHT
TZOFFSETFROM:+0100
TZOFFSETTO:+0200
TZNAME:CEST
DTSTART:20240331T010000
END:DAYLIGHT
BEGIN:STANDARD
TZOFFSETFROM:+0200
TZOFFSETTO:+0100
TZNAME:CET
DTSTART:20241027T010000
END:STANDARD
BEGIN:DAYLIGHT
TZOFFSETFROM:+0100
TZOFFSETTO:+0200
TZNAME:CEST
DTSTART:20250330T010000
END:DAYLIGHT
BEGIN:STANDARD
TZOFFSETFROM:+0200
TZOFFSETTO:+0100
TZNAME:CET
DTSTART:20251026T010000
END:STANDARD
BEGIN:DAYLIGHT
TZOFFSETFROM:+0100
TZOFFSETTO:+0200
TZNAME:CEST
DTSTART:20260329T010000
END:DAYLIGHT
BEGIN:STANDARD
TZOFFSETFROM:+0200
TZOFFSETTO:+0100
TZNAME:CET
DTSTART:20261025T010000
END:STANDARD
END:VTIMEZONE
BEGIN:VEVENT
DTSTART;TZID=Europe/Amsterdam:20250817T140000
DTEND;TZID=Europe/Amsterdam:20250817T180000
DTSTAMP:20260421T232304
CREATED:20250620T074825Z
LAST-MODIFIED:20250620T082313Z
UID:25173-1755439200-1755453600@vestingdagen.nl
SUMMARY:Muziek: The Amazing Stroopwafels
DESCRIPTION:
URL:https://vestingdagen.nl/events/muziek-the-amazing-stroopwafels-3/
LOCATION:Kerkstraat:\, Kerkstraat\, Hellevoetsluis
CATEGORIES:Barbiertje (terras)
ATTACH;FMTTYPE=image/jpeg:https://vestingdagen.nl/wp-content/uploads/2025/06/Barbier-Kerkstraat-T90a0S.jpg
END:VEVENT
BEGIN:VEVENT
DTSTART;TZID=Europe/Amsterdam:20250817T120000
DTEND;TZID=Europe/Amsterdam:20250817T200000
DTSTAMP:20260421T232304
CREATED:20250620T074825Z
LAST-MODIFIED:20250620T082314Z
UID:25174-1755432000-1755460800@vestingdagen.nl
SUMMARY:Vinyl Muziek: Cirque Du Vinyl
DESCRIPTION:
URL:https://vestingdagen.nl/events/vinyl-muziek-cirque-du-vinyl-2/
LOCATION:Kerkstraat:\, Kerkstraat\, Hellevoetsluis
CATEGORIES:Barbiertje (terras)
ATTACH;FMTTYPE=image/jpeg:https://vestingdagen.nl/wp-content/uploads/2025/06/Barbier-Kerkstraat-T90a0S.jpg
END:VEVENT
BEGIN:VEVENT
DTSTART;TZID=Europe/Amsterdam:20250816T180000
DTEND;TZID=Europe/Amsterdam:20250817T010000
DTSTAMP:20260421T232304
CREATED:20250620T074708Z
LAST-MODIFIED:20250620T082304Z
UID:25171-1755367200-1755392400@vestingdagen.nl
SUMMARY:Achtergrondmuziek: Cirque Du Vinyl
DESCRIPTION:
URL:https://vestingdagen.nl/events/achtergrondmuziek-cirque-du-vinyl-3/
LOCATION:Kerkstraat:\, Kerkstraat\, Hellevoetsluis
CATEGORIES:Barbiertje (terras)
ATTACH;FMTTYPE=image/jpeg:https://vestingdagen.nl/wp-content/uploads/2025/06/Barbier-Kerkstraat-T90a0S.jpg
END:VEVENT
BEGIN:VEVENT
DTSTART;TZID=Europe/Amsterdam:20250816T140000
DTEND;TZID=Europe/Amsterdam:20250816T180000
DTSTAMP:20260421T232304
CREATED:20250620T074708Z
LAST-MODIFIED:20250728T094034Z
UID:25170-1755352800-1755367200@vestingdagen.nl
SUMMARY:Muziek: The Gonzo’s
DESCRIPTION:
URL:https://vestingdagen.nl/events/muziek-peen-2/
LOCATION:Kerkstraat:\, Kerkstraat\, Hellevoetsluis
CATEGORIES:Barbiertje (terras)
ATTACH;FMTTYPE=image/jpeg:https://vestingdagen.nl/wp-content/uploads/2025/06/Barbier-Kerkstraat-T90a0S.jpg
END:VEVENT
BEGIN:VEVENT
DTSTART;TZID=Europe/Amsterdam:20250815T170000
DTEND;TZID=Europe/Amsterdam:20250816T010000
DTSTAMP:20260421T232304
CREATED:20250620T074708Z
LAST-MODIFIED:20250620T082301Z
UID:25168-1755277200-1755306000@vestingdagen.nl
SUMMARY:Gaytastic Vrijmibo-Muziek: Duo Tijdloos\, Andrew Dean & Cirque Du Vinyl
DESCRIPTION:
URL:https://vestingdagen.nl/events/gaytastic-vrijmibo-muziek-duo-tijdloos-andrew-dean-cirque-du-vinyl/
LOCATION:Kerkstraat:\, Kerkstraat\, Hellevoetsluis
CATEGORIES:Barbiertje (terras)
ATTACH;FMTTYPE=image/jpeg:https://vestingdagen.nl/wp-content/uploads/2025/06/Barbier-Kerkstraat-T90a0S.jpg
END:VEVENT
BEGIN:VEVENT
DTSTART;TZID=Europe/Amsterdam:20240818T140000
DTEND;TZID=Europe/Amsterdam:20240818T180000
DTSTAMP:20260421T232304
CREATED:20240707T100426Z
LAST-MODIFIED:20240707T100426Z
UID:24699-1723989600-1724004000@vestingdagen.nl
SUMMARY:Muziek: The Amazing Stroopwafels
DESCRIPTION:
URL:https://vestingdagen.nl/events/muziek-the-amazing-stroopwafels-2/
LOCATION:Kerkstraat:\, Kerkstraat\, Hellevoetsluis
CATEGORIES:Barbiertje (terras)
ATTACH;FMTTYPE=image/jpeg:https://vestingdagen.nl/wp-content/uploads/2021/12/Barbiertje.jpg
END:VEVENT
BEGIN:VEVENT
DTSTART;TZID=Europe/Amsterdam:20240818T120000
DTEND;TZID=Europe/Amsterdam:20240818T200000
DTSTAMP:20260421T232304
CREATED:20240707T101756Z
LAST-MODIFIED:20240711T072818Z
UID:24700-1723982400-1724011200@vestingdagen.nl
SUMMARY:Vinyl Muziek: Cirque Du Vinyl
DESCRIPTION:
URL:https://vestingdagen.nl/events/vinyl-muziek-cirque-du-vinyl/
LOCATION:Kerkstraat:\, Kerkstraat\, Hellevoetsluis
CATEGORIES:Barbiertje (terras)
ATTACH;FMTTYPE=image/jpeg:https://vestingdagen.nl/wp-content/uploads/2021/12/Barbiertje.jpg
END:VEVENT
BEGIN:VEVENT
DTSTART;TZID=Europe/Amsterdam:20240817T180000
DTEND;TZID=Europe/Amsterdam:20240818T010000
DTSTAMP:20260421T232304
CREATED:20240707T093417Z
LAST-MODIFIED:20240707T093417Z
UID:24697-1723917600-1723942800@vestingdagen.nl
SUMMARY:Achtergrondmuziek: Cirque Du Vinyl
DESCRIPTION:
URL:https://vestingdagen.nl/events/achtergrondmuziek-cirque-du-vinyl-2/
LOCATION:Kerkstraat:\, Kerkstraat\, Hellevoetsluis
CATEGORIES:Barbiertje (terras)
ATTACH;FMTTYPE=image/jpeg:https://vestingdagen.nl/wp-content/uploads/2021/12/Barbiertje.jpg
END:VEVENT
BEGIN:VEVENT
DTSTART;TZID=Europe/Amsterdam:20240817T140000
DTEND;TZID=Europe/Amsterdam:20240817T180000
DTSTAMP:20260421T232304
CREATED:20240707T100401Z
LAST-MODIFIED:20250728T094055Z
UID:24696-1723903200-1723917600@vestingdagen.nl
SUMMARY:Muziek: The Gonzo’s
DESCRIPTION:
URL:https://vestingdagen.nl/events/muziek-peen/
LOCATION:Kerkstraat:\, Kerkstraat\, Hellevoetsluis
CATEGORIES:Barbiertje (terras)
ATTACH;FMTTYPE=image/jpeg:https://vestingdagen.nl/wp-content/uploads/2021/12/Barbiertje.jpg
END:VEVENT
BEGIN:VEVENT
DTSTART;TZID=Europe/Amsterdam:20240816T170000
DTEND;TZID=Europe/Amsterdam:20240817T130000
DTSTAMP:20260421T232304
CREATED:20240707T095454Z
LAST-MODIFIED:20240707T095454Z
UID:24694-1723827600-1723899600@vestingdagen.nl
SUMMARY:Gaytastic Vrijmibo
DESCRIPTION:
URL:https://vestingdagen.nl/events/gaytastic-vrijmibo-2/
LOCATION:Kerkstraat:\, Kerkstraat\, Hellevoetsluis
CATEGORIES:Barbiertje (terras)
ATTACH;FMTTYPE=image/jpeg:https://vestingdagen.nl/wp-content/uploads/2021/12/Barbiertje.jpg
END:VEVENT
END:VCALENDAR