BEGIN:VCALENDAR
VERSION:2.0
PRODID:-//Vestingdagen 2.0 - ECPv6.15.13//NONSGML v1.0//EN
CALSCALE:GREGORIAN
METHOD:PUBLISH
X-WR-CALNAME:Vestingdagen 2.0
X-ORIGINAL-URL:https://vestingdagen.nl
X-WR-CALDESC:Evenementen voor Vestingdagen 2.0
REFRESH-INTERVAL;VALUE=DURATION:PT1H
X-Robots-Tag:noindex
X-PUBLISHED-TTL:PT1H
BEGIN:VTIMEZONE
TZID:Europe/Amsterdam
BEGIN:DAYLIGHT
TZOFFSETFROM:+0100
TZOFFSETTO:+0200
TZNAME:CEST
DTSTART:20220327T010000
END:DAYLIGHT
BEGIN:STANDARD
TZOFFSETFROM:+0200
TZOFFSETTO:+0100
TZNAME:CET
DTSTART:20221030T010000
END:STANDARD
BEGIN:DAYLIGHT
TZOFFSETFROM:+0100
TZOFFSETTO:+0200
TZNAME:CEST
DTSTART:20230326T010000
END:DAYLIGHT
BEGIN:STANDARD
TZOFFSETFROM:+0200
TZOFFSETTO:+0100
TZNAME:CET
DTSTART:20231029T010000
END:STANDARD
BEGIN:DAYLIGHT
TZOFFSETFROM:+0100
TZOFFSETTO:+0200
TZNAME:CEST
DTSTART:20240331T010000
END:DAYLIGHT
BEGIN:STANDARD
TZOFFSETFROM:+0200
TZOFFSETTO:+0100
TZNAME:CET
DTSTART:20241027T010000
END:STANDARD
END:VTIMEZONE
BEGIN:VEVENT
DTSTART;TZID=Europe/Amsterdam:20230819T180000
DTEND;TZID=Europe/Amsterdam:20230819T180000
DTSTAMP:20260421T124536
CREATED:20230706T013958Z
LAST-MODIFIED:20230706T023011Z
UID:24175-1692468000-1692468000@vestingdagen.nl
SUMMARY:Achtergrondmuziek: Cirque Du Vinyl
DESCRIPTION:
URL:https://vestingdagen.nl/events/achtergrondmuziek-cirque-du-vinyl/
LOCATION:Kerkstraat:\, Kerkstraat\, Hellevoetsluis
CATEGORIES:Barbier,Vesting
ATTACH;FMTTYPE=image/jpeg:https://vestingdagen.nl/wp-content/uploads/2021/12/Barbiertje.jpg
END:VEVENT
END:VCALENDAR